BEGIN:VCALENDAR
VERSION:2.0
PRODID:-//eventon.com NONSGML v1.0//EN
CALSCALE:GREGORIAN
METHOD:PUBLISH
BEGIN:VEVENT
UID:69e7337b24e7d
DTSTAMP:20260421T082115Z
DTSTART:20230122T150000Z
DTEND:20230122T180000Z
LOCATION:UmCirkum V Zálomu 2948/1\,  70030\,   Ostrava-Zábřeh
SUMMARY:Acroyoga Jam Ostrava #156 – UmCirkum
DESCRIPTION:Acroyoga Ostrava pořádá otevřený acro jam roku pro všechn
 y\,  kdo si chtějí zalítat\,  něco se možná naučit a hlavně si už
 t pěkné odpoledne. Další otevřený jam\,  kde se opět setkáme douf
 m v hojném počtu\,  ať si můžeme hezky zacvičit. Ať se nám dobře 
 cvičí a jsme v pohodě v suchu[..]\nhttps://acroyoga-ostrava.cz/events/ac
 royoga-jam-ostrava-156-umcirkum/
URL:https://acroyoga-ostrava.cz/events/acroyoga-jam-ostrava-156-umcirkum/
END:VEVENT
END:VCALENDAR